BEGIN:VCALENDAR
VERSION:2.0
PRODID:-//Hospizhilfe Nordenham e.V. - ECPv6.3.2//NONSGML v1.0//EN
CALSCALE:GREGORIAN
METHOD:PUBLISH
X-ORIGINAL-URL:https://hopino.de
X-WR-CALDESC:Veranstaltungen für Hospizhilfe Nordenham e.V.
REFRESH-INTERVAL;VALUE=DURATION:PT1H
X-Robots-Tag:noindex
X-PUBLISHED-TTL:PT1H
BEGIN:VTIMEZONE
TZID:Europe/Berlin
BEGIN:DAYLIGHT
TZOFFSETFROM:+0100
TZOFFSETTO:+0200
TZNAME:CEST
DTSTART:20240331T010000
END:DAYLIGHT
BEGIN:STANDARD
TZOFFSETFROM:+0200
TZOFFSETTO:+0100
TZNAME:CET
DTSTART:20241027T010000
END:STANDARD
END:VTIMEZONE
BEGIN:VEVENT
DTSTART;TZID=Europe/Berlin:20241016T163000
DTEND;TZID=Europe/Berlin:20241016T200000
DTSTAMP:20260422T204110
CREATED:20241001T112248Z
LAST-MODIFIED:20241001T114659Z
UID:1806-1729096200-1729108800@hopino.de
SUMMARY:"Hospiz für Vielfalt" Kinoveranstaltung zum Welthospiztag
DESCRIPTION:„Hospiz für Vielfalt“ ist das Motto des diesjährigen Welthospiztages. \nGemeinsam mit dem Förderverein „Stationäres Hospiz Wesermarsch e.V.“ veranstalten wir am 16.10.24 ab 16:30 eine Aktion\nim Nordenhamer Kino.\nGezeigt wird der Film „Halt auf freier Strecke“.\nDer Eintritt ist frei\, stattdessen freuen wir uns über Spenden\, die beiden Vereinen zugute kommen sollen.\nHerzlichen Dank an den Filmpalast Nordenham für die Unterstützung!
URL:https://hopino.de/event/hospiz-fuer-vielfalt-kinoveranstaltung-zum-welthospiztag/
ATTACH;FMTTYPE=image/jpeg:https://hopino.de/wp-content/uploads/2024/10/WHT-Kino-2024.jpeg
END:VEVENT
END:VCALENDAR