BEGIN:VCALENDAR
VERSION:2.0
PRODID:-//Hospizhilfe Nordenham e.V. - ECPv6.3.2//NONSGML v1.0//EN
CALSCALE:GREGORIAN
METHOD:PUBLISH
X-WR-CALNAME:Hospizhilfe Nordenham e.V.
X-ORIGINAL-URL:https://hopino.de
X-WR-CALDESC:Veranstaltungen für Hospizhilfe Nordenham e.V.
REFRESH-INTERVAL;VALUE=DURATION:PT1H
X-Robots-Tag:noindex
X-PUBLISHED-TTL:PT1H
BEGIN:VTIMEZONE
TZID:Europe/Berlin
BEGIN:DAYLIGHT
TZOFFSETFROM:+0100
TZOFFSETTO:+0200
TZNAME:CEST
DTSTART:20240331T010000
END:DAYLIGHT
BEGIN:STANDARD
TZOFFSETFROM:+0200
TZOFFSETTO:+0100
TZNAME:CET
DTSTART:20241027T010000
END:STANDARD
END:VTIMEZONE
BEGIN:VEVENT
DTSTART;TZID=Europe/Berlin:20240902T100000
DTEND;TZID=Europe/Berlin:20240902T120000
DTSTAMP:20260420T103439
CREATED:20240702T090424Z
LAST-MODIFIED:20240702T090428Z
UID:1752-1725271200-1725278400@hopino.de
SUMMARY:Sprechstunde Rathaus Burhave Beratung Patientenverfügung & Vorsorgevollmacht
DESCRIPTION:Die persönliche Auseinandersetzung mit massiven Einschränkungen im täglichen Leben und dem nahenden Tod gilt es  intensiv zu bedenken. \n„Was möchte ich in dieser Situation nicht mehr und vor allem?“ \n„Was möchte ich für meine letzte Lebensphase bewusst noch selbst regeln?“ \n„Kann ich das alleine\, oder wer ist mir so vertraut und bereit\, nach meinen Wünschen für mich Entscheidungen zu treffen\, wenn ich es selbst nicht mehr vermag?“. \nWir bieten im Rathaus in Burhave  jeden 1. Montag im Monat in der Zeit von 10:00 -12:00 Uhr eine kostenlose Beratung an.
URL:https://hopino.de/event/sprechstunde-rathaus-burhave-beratung-patientenverfuegung-vorsorgevollmacht-25/
LOCATION:Rathaus Burhave\, Butjadingen
ATTACH;FMTTYPE=image/png:https://hopino.de/wp-content/uploads/2020/09/Rathaus.png
END:VEVENT
BEGIN:VEVENT
DTSTART;TZID=Europe/Berlin:20240912T090000
DTEND;TZID=Europe/Berlin:20240912T110000
DTSTAMP:20260420T103439
CREATED:20240702T090808Z
LAST-MODIFIED:20240702T090820Z
UID:1764-1726131600-1726138800@hopino.de
SUMMARY:Sprechstunde zu Patientenverfügung und Vorsorgevollmacht in Rodenkirchen
DESCRIPTION:Die persönliche Auseinandersetzung mit massiven Einschränkungen im täglichen Leben und dem nahenden Tod gilt es  intensiv zu bedenken. \n„Was möchte ich in dieser Situation nicht mehr und vor allem?“ \n„Was möchte ich für meine letzte Lebensphase bewusst noch selbst regeln?“ \n„Kann ich das alleine\, oder wer ist mir so vertraut und bereit\, nach meinen Wünschen für mich Entscheidungen zu treffen\, wenn ich es selbst nicht mehr vermag?“. \nWir bieten im Rathaus in Rodenkirchen   in der Zeit von 09:00 – 11:00 Uhr eine kostenlose Beratung an.
URL:https://hopino.de/event/sprechstunde-zu-patientenverfuegung-und-vorsorgevollmacht-in-rodenkirchen-22/
LOCATION:Rathaus Rodenkirchen
ATTACH;FMTTYPE=image/png:https://hopino.de/wp-content/uploads/2021/09/Rathaus-Rodenkirchen.png
END:VEVENT
BEGIN:VEVENT
DTSTART;TZID=Europe/Berlin:20240920T093000
DTEND;TZID=Europe/Berlin:20240920T103000
DTSTAMP:20260420T103439
CREATED:20240702T091005Z
LAST-MODIFIED:20240702T091008Z
UID:1770-1726824600-1726828200@hopino.de
SUMMARY:Offenes Frühstück für alle an der Hospizbewegung Interessierten
DESCRIPTION:Sie wollen uns einmal unverbindlich kennenlernen? Kommen Sie vorbei! \nJeden 3. Mittwoch im Monat findet ab 9.30 Uhr ein Frühstück in unseren Räumen in der Bahnhofsstraße 32 in Nordenham statt. Interessierte sind herzlich eingeladen\, mit Ehrenamtlichen ins Gespräch zu kommen und sich über die aktuelle Hospizarbeit zu informieren. \nEine Anmeldung ist erforderlich. \nTel.: 04731-205004\nMail: hospizhilfenordenham@gmx.net
URL:https://hopino.de/event/offenes-fruehstueck-fuer-alle-an-der-hospizbewegung-interessierten-19/
LOCATION:Hospizhilfe Nordenham\, Bahnhofstraße 32\, Nordenham
ATTACH;FMTTYPE=image/png:https://hopino.de/wp-content/uploads/2022/03/Fruehstueck.png
END:VEVENT
END:VCALENDAR