BEGIN:VCALENDAR
VERSION:2.0
PRODID:-//Hospizhilfe Nordenham e.V. - ECPv6.3.2//NONSGML v1.0//EN
CALSCALE:GREGORIAN
METHOD:PUBLISH
X-ORIGINAL-URL:https://hopino.de
X-WR-CALDESC:Veranstaltungen für Hospizhilfe Nordenham e.V.
REFRESH-INTERVAL;VALUE=DURATION:PT1H
X-Robots-Tag:noindex
X-PUBLISHED-TTL:PT1H
BEGIN:VTIMEZONE
TZID:Europe/Berlin
BEGIN:DAYLIGHT
TZOFFSETFROM:+0100
TZOFFSETTO:+0200
TZNAME:CEST
DTSTART:20250330T010000
END:DAYLIGHT
BEGIN:STANDARD
TZOFFSETFROM:+0200
TZOFFSETTO:+0100
TZNAME:CET
DTSTART:20251026T010000
END:STANDARD
END:VTIMEZONE
BEGIN:VEVENT
DTSTART;TZID=Europe/Berlin:20251010T110000
DTEND;TZID=Europe/Berlin:20251010T130000
DTSTAMP:20260422T130233
CREATED:20250430T160242Z
LAST-MODIFIED:20251214T145454Z
UID:1938-1760094000-1760101200@hopino.de
SUMMARY:Trost- und Trauerbank
DESCRIPTION:In Kooperation mit dem Friedhofsverband Nordenham-Blexen wurde auf dem Atenser Friedhof eine Trost- und Trauerbank aufgestellt. \nJeden 2. Freitag im Monat wird dort eine Trauerbegleiterin ab 11.00 Uhr zu finden sein\, zum Reden\, Zuhören oder auch zum gemeinsamen Schweigen. \nDie Bank findet man zentral auf dem Friedhof (linker Eingang und immer geradeaus bis zur Wasserstelle). \nAufgrund der Witterung stellen wir das Angebot ab Anfang November ein. Wir freuen uns Sie im März wieder begrüßen zu können und sind gerne für Sie da!  \n  \nNähere Auskünfte erhalten Sie im Büro der Hospizhilfe unter Tel.: 04731-205004 oder per Mail: info@hopino.de
URL:https://hopino.de/event/trost-und-trauerbank/
LOCATION:Friedhof Atens\, Atenser Allee\, Nordenham
ATTACH;FMTTYPE=image/jpeg:https://hopino.de/wp-content/uploads/2022/09/Trost-und-Trauerbank.jpg
END:VEVENT
BEGIN:VEVENT
DTSTART;TZID=Europe/Berlin:20251011T100000
DTEND;TZID=Europe/Berlin:20251011T160000
DTSTAMP:20260422T130233
CREATED:20250928T112812Z
LAST-MODIFIED:20250928T113427Z
UID:2061-1760176800-1760198400@hopino.de
SUMMARY:Welthospiztag - Infostand im E-Center in Nordenham 11.10.2025
DESCRIPTION:Welthospiztag 2025 – Wir sind für Sie da \nAm 11. Oktober ist es wieder soweit: Weltweit wird an diesem Tag die Hospizarbeit sichtbar gemacht. \nDas diesjährige Motto lautet: „Heimat für alle“ – denn JEDER Mensch soll sich am Lebensende und in schweren Zeiten geborgen und begleitet fühlen. \nWir sind an diesem Tag von 10 bis ca. 16 Uhr im E-Center Nordenham mit einem Infostand für euch da. \nKommt gerne vorbei – wir informieren euch über: \n– Hospizbegleitung für Erwachsene und Kinder und Jugendliche \n– Trauerangebote \n– Letzte-Hilfe-Kurse \n… oder wir kommen einfach miteinander ins Gespräch. \nKommen Sie vorbei – wir freuen uns auf das Gespräch mit Ihnen!
URL:https://hopino.de/event/welthospiztag-infostand-im-e-center-in-nordenham-11-10-2025/
ATTACH;FMTTYPE=image/png:https://hopino.de/wp-content/uploads/2025/09/W_20250925_121340_0000.png
END:VEVENT
BEGIN:VEVENT
DTSTART;TZID=Europe/Berlin:20251016T150000
DTEND;TZID=Europe/Berlin:20251016T160000
DTSTAMP:20260422T130233
CREATED:20240702T091155Z
LAST-MODIFIED:20251214T145358Z
UID:1776-1760626800-1760630400@hopino.de
SUMMARY:Trauerspaziergang
DESCRIPTION:Durch die Bewegung des Gehens kommt auch in uns etwas in Bewegung. Vielen Menschen fällt es im Gehen leichter\, über ein schweres Thema zu sprechen. Das gemeinsame Wandern gibt ihnen die Möglichkeit\, sich ihre Trauer von der Seele zu laufen und durchzuatmen\, um den Blick für das vor ihnen liegende zu bekommen. Während des Gehens und im gemeinsamen Austausch mit anderen Trauernden und unseren Trauerbegleiterinnen kann Erlebtem nachgespürt und Empfundenes ausgesprochen werden. Die Natur lädt ein\, lenkt ab und ist im Wandel der Jahreszeiten immer wieder neu zu betrachten. \nAufgrund der Witterung stellen wir das Angebot ab Anfang November ein. Wir freuen uns Sie im März wieder begrüßen zu können und sind gerne für Sie da!  \n 
URL:https://hopino.de/event/trauerspaziergang-25/
LOCATION:Gateteiche Nordenham\, Walther-Rathenau-Straße\, Nordenham
ATTACH;FMTTYPE=image/jpeg:https://hopino.de/wp-content/uploads/2020/03/20190916-DSC01262-min-scaled.jpg
END:VEVENT
END:VCALENDAR