BEGIN:VCALENDAR
VERSION:2.0
PRODID:-//Hospizhilfe Nordenham e.V. - ECPv6.3.2//NONSGML v1.0//EN
CALSCALE:GREGORIAN
METHOD:PUBLISH
X-WR-CALNAME:Hospizhilfe Nordenham e.V.
X-ORIGINAL-URL:https://hopino.de
X-WR-CALDESC:Veranstaltungen für Hospizhilfe Nordenham e.V.
REFRESH-INTERVAL;VALUE=DURATION:PT1H
X-Robots-Tag:noindex
X-PUBLISHED-TTL:PT1H
BEGIN:VTIMEZONE
TZID:Europe/Berlin
BEGIN:DAYLIGHT
TZOFFSETFROM:+0100
TZOFFSETTO:+0200
TZNAME:CEST
DTSTART:20250330T010000
END:DAYLIGHT
BEGIN:STANDARD
TZOFFSETFROM:+0200
TZOFFSETTO:+0100
TZNAME:CET
DTSTART:20251026T010000
END:STANDARD
END:VTIMEZONE
BEGIN:VEVENT
DTSTART;TZID=Europe/Berlin:20251106T150000
DTEND;TZID=Europe/Berlin:20251106T170000
DTSTAMP:20260422T113902
CREATED:20240702T090620Z
LAST-MODIFIED:20251105T113553Z
UID:1758-1762441200-1762448400@hopino.de
SUMMARY:Trauercafé
DESCRIPTION:Trauer durchschreiten\, zum Leben zurückfinden\nWer einen lieben Menschen verliert\, hat das Gefühl einen Teil von sich selbst zu verlieren. Vieles scheint sinnlos. Das Leben gerät aus den Fugen. Sogar manche Freunde wenden sich vom Trauernden ab. Die Sehnsucht tut weh und es scheint\, dass niemand sich dafür interessiert. Mit Ihrem Leid sind Sie nicht allein. Vom selben Leid betroffene Menschen verstehen\, wovon Sie reden und hören Ihnen zu.\nIn unserem Trauercafé finden Sie ein offenes Ohr\, Verständnis und professionelle Begleitung. Dazu noch einen heißen Kaffee oder einen Tee\, wenn Sie mögen. \nSie finden uns in der Bahnhofstraße 32 in Nordenham. \nNähere Auskünfte erhalten Sie im Büro der Hospizhilfe unter Tel.: 04731-205004 \n  \n  \nWir freuen uns auf Ihre Anmeldung und erwarten Sie!
URL:https://hopino.de/event/trauercafe-26/
LOCATION:Hospizhilfe Nordenham\, Bahnhofstraße 32\, Nordenham
ATTACH;FMTTYPE=image/jpeg:https://hopino.de/wp-content/uploads/2020/09/Trauercafe.jpg
END:VEVENT
BEGIN:VEVENT
DTSTART;TZID=Europe/Berlin:20251121T093000
DTEND;TZID=Europe/Berlin:20251121T110000
DTSTAMP:20260422T113902
CREATED:20241002T123744Z
LAST-MODIFIED:20251105T113641Z
UID:1849-1763717400-1763722800@hopino.de
SUMMARY:Offenes Frühstück für alle an der Hospizarbeit Interessierten
DESCRIPTION:Sie wollen uns einmal unverbindlich kennenlernen? Kommen Sie vorbei! \nAm 15.08.2025 findet ab 9.30 Uhr ein Frühstück in unseren Räumen in der Bahnhofsstraße 32 in Nordenham statt. Interessierte sind herzlich eingeladen mit Ehrenamtlichen ins Gespräch zu kommen und sich über die aktuelle Hospizarbeit zu informieren. \nBitte melden Sie sich bei Interesse an! \nTel.: 04731-205004\nMail: hospizhilfenordenham@gmx.net
URL:https://hopino.de/event/offenes-fruehstueck-fuer-interessierte/
LOCATION:Hospizhilfe Nordenham\, Bahnhofstraße 32\, Nordenham
ATTACH;FMTTYPE=image/png:https://hopino.de/wp-content/uploads/2022/03/Fruehstueck.png
END:VEVENT
END:VCALENDAR